BEGIN:VCALENDAR
VERSION:2.0
PRODID:-//Nordic Walking Toscana - ECPv6.13.1//NONSGML v1.0//EN
CALSCALE:GREGORIAN
METHOD:PUBLISH
X-ORIGINAL-URL:https://www.nordicwalkingtoscana.it
X-WR-CALDESC:Eventi per Nordic Walking Toscana
REFRESH-INTERVAL;VALUE=DURATION:PT1H
X-Robots-Tag:noindex
X-PUBLISHED-TTL:PT1H
BEGIN:VTIMEZONE
TZID:Europe/Rome
BEGIN:DAYLIGHT
TZOFFSETFROM:+0100
TZOFFSETTO:+0200
TZNAME:CEST
DTSTART:20220327T010000
END:DAYLIGHT
BEGIN:STANDARD
TZOFFSETFROM:+0200
TZOFFSETTO:+0100
TZNAME:CET
DTSTART:20221030T010000
END:STANDARD
END:VTIMEZONE
BEGIN:VEVENT
DTSTART;TZID=Europe/Rome:20220915T190000
DTEND;TZID=Europe/Rome:20220915T200000
DTSTAMP:20260420T044813
CREATED:20180817T181514Z
LAST-MODIFIED:20180817T181531Z
UID:10001403-1663268400-1663272000@www.nordicwalkingtoscana.it
SUMMARY:Lezione prova gratuita
DESCRIPTION:Perché non approfittare delle vacanze per provare il nordic walking? A Firenze é possibile anche ad agosto telefonando al 3388364241 o compilando il modulo sottostante. Oltre a martedì e giovedì sono possibili altre date su richiesta. Prenotazione obbligatoria. \n  \n\n	Avviso: JavaScript è obbligatorio per questo contenuto.\n\n\n    \n\n\n        \n        \n         \n \n  \n 
URL:https://www.nordicwalkingtoscana.it/evento/lezione-prova-gratuita-2/2022-09-15/
LOCATION:Firenze Via Carlo Alberto Dalla Chiesa
END:VEVENT
BEGIN:VEVENT
DTSTART;TZID=Europe/Rome:20220913T190000
DTEND;TZID=Europe/Rome:20220913T200000
DTSTAMP:20260420T044813
CREATED:20180817T181514Z
LAST-MODIFIED:20180817T181531Z
UID:10001402-1663095600-1663099200@www.nordicwalkingtoscana.it
SUMMARY:Lezione prova gratuita
DESCRIPTION:Perché non approfittare delle vacanze per provare il nordic walking? A Firenze é possibile anche ad agosto telefonando al 3388364241 o compilando il modulo sottostante. Oltre a martedì e giovedì sono possibili altre date su richiesta. Prenotazione obbligatoria. \n  \n\n	Avviso: JavaScript è obbligatorio per questo contenuto.\n\n\n    \n\n\n        \n        \n         \n \n  \n 
URL:https://www.nordicwalkingtoscana.it/evento/lezione-prova-gratuita-2/2022-09-13/
LOCATION:Firenze Via Carlo Alberto Dalla Chiesa
END:VEVENT
BEGIN:VEVENT
DTSTART;TZID=Europe/Rome:20220908T190000
DTEND;TZID=Europe/Rome:20220908T200000
DTSTAMP:20260420T044813
CREATED:20180817T181514Z
LAST-MODIFIED:20180817T181531Z
UID:10001401-1662663600-1662667200@www.nordicwalkingtoscana.it
SUMMARY:Lezione prova gratuita
DESCRIPTION:Perché non approfittare delle vacanze per provare il nordic walking? A Firenze é possibile anche ad agosto telefonando al 3388364241 o compilando il modulo sottostante. Oltre a martedì e giovedì sono possibili altre date su richiesta. Prenotazione obbligatoria. \n  \n\n	Avviso: JavaScript è obbligatorio per questo contenuto.\n\n\n    \n\n\n        \n        \n         \n \n  \n 
URL:https://www.nordicwalkingtoscana.it/evento/lezione-prova-gratuita-2/2022-09-08/
LOCATION:Firenze Via Carlo Alberto Dalla Chiesa
END:VEVENT
BEGIN:VEVENT
DTSTART;TZID=Europe/Rome:20220906T190000
DTEND;TZID=Europe/Rome:20220906T200000
DTSTAMP:20260420T044813
CREATED:20180817T181514Z
LAST-MODIFIED:20180817T181531Z
UID:10001400-1662490800-1662494400@www.nordicwalkingtoscana.it
SUMMARY:Lezione prova gratuita
DESCRIPTION:Perché non approfittare delle vacanze per provare il nordic walking? A Firenze é possibile anche ad agosto telefonando al 3388364241 o compilando il modulo sottostante. Oltre a martedì e giovedì sono possibili altre date su richiesta. Prenotazione obbligatoria. \n  \n\n	Avviso: JavaScript è obbligatorio per questo contenuto.\n\n\n    \n\n\n        \n        \n         \n \n  \n 
URL:https://www.nordicwalkingtoscana.it/evento/lezione-prova-gratuita-2/2022-09-06/
LOCATION:Firenze Via Carlo Alberto Dalla Chiesa
END:VEVENT
BEGIN:VEVENT
DTSTART;TZID=Europe/Rome:20220901T190000
DTEND;TZID=Europe/Rome:20220901T200000
DTSTAMP:20260420T044813
CREATED:20180817T181514Z
LAST-MODIFIED:20180817T181531Z
UID:10001399-1662058800-1662062400@www.nordicwalkingtoscana.it
SUMMARY:Lezione prova gratuita
DESCRIPTION:Perché non approfittare delle vacanze per provare il nordic walking? A Firenze é possibile anche ad agosto telefonando al 3388364241 o compilando il modulo sottostante. Oltre a martedì e giovedì sono possibili altre date su richiesta. Prenotazione obbligatoria. \n  \n\n	Avviso: JavaScript è obbligatorio per questo contenuto.\n\n\n    \n\n\n        \n        \n         \n \n  \n 
URL:https://www.nordicwalkingtoscana.it/evento/lezione-prova-gratuita-2/2022-09-01/
LOCATION:Firenze Via Carlo Alberto Dalla Chiesa
END:VEVENT
BEGIN:VEVENT
DTSTART;TZID=Europe/Rome:20220830T190000
DTEND;TZID=Europe/Rome:20220830T200000
DTSTAMP:20260420T044814
CREATED:20180817T181514Z
LAST-MODIFIED:20180817T181531Z
UID:10001398-1661886000-1661889600@www.nordicwalkingtoscana.it
SUMMARY:Lezione prova gratuita
DESCRIPTION:Perché non approfittare delle vacanze per provare il nordic walking? A Firenze é possibile anche ad agosto telefonando al 3388364241 o compilando il modulo sottostante. Oltre a martedì e giovedì sono possibili altre date su richiesta. Prenotazione obbligatoria. \n  \n\n	Avviso: JavaScript è obbligatorio per questo contenuto.\n\n\n    \n\n\n        \n        \n         \n \n  \n 
URL:https://www.nordicwalkingtoscana.it/evento/lezione-prova-gratuita-2/2022-08-30/
LOCATION:Firenze Via Carlo Alberto Dalla Chiesa
END:VEVENT
BEGIN:VEVENT
DTSTART;TZID=Europe/Rome:20220825T190000
DTEND;TZID=Europe/Rome:20220825T200000
DTSTAMP:20260420T044814
CREATED:20180817T181514Z
LAST-MODIFIED:20180817T181531Z
UID:10001397-1661454000-1661457600@www.nordicwalkingtoscana.it
SUMMARY:Lezione prova gratuita
DESCRIPTION:Perché non approfittare delle vacanze per provare il nordic walking? A Firenze é possibile anche ad agosto telefonando al 3388364241 o compilando il modulo sottostante. Oltre a martedì e giovedì sono possibili altre date su richiesta. Prenotazione obbligatoria. \n  \n\n	Avviso: JavaScript è obbligatorio per questo contenuto.\n\n\n    \n\n\n        \n        \n         \n \n  \n 
URL:https://www.nordicwalkingtoscana.it/evento/lezione-prova-gratuita-2/2022-08-25/
LOCATION:Firenze Via Carlo Alberto Dalla Chiesa
END:VEVENT
BEGIN:VEVENT
DTSTART;TZID=Europe/Rome:20220823T190000
DTEND;TZID=Europe/Rome:20220823T200000
DTSTAMP:20260420T044814
CREATED:20180817T181514Z
LAST-MODIFIED:20180817T181531Z
UID:10001396-1661281200-1661284800@www.nordicwalkingtoscana.it
SUMMARY:Lezione prova gratuita
DESCRIPTION:Perché non approfittare delle vacanze per provare il nordic walking? A Firenze é possibile anche ad agosto telefonando al 3388364241 o compilando il modulo sottostante. Oltre a martedì e giovedì sono possibili altre date su richiesta. Prenotazione obbligatoria. \n  \n\n	Avviso: JavaScript è obbligatorio per questo contenuto.\n\n\n    \n\n\n        \n        \n         \n \n  \n 
URL:https://www.nordicwalkingtoscana.it/evento/lezione-prova-gratuita-2/2022-08-23/
LOCATION:Firenze Via Carlo Alberto Dalla Chiesa
END:VEVENT
BEGIN:VEVENT
DTSTART;TZID=Europe/Rome:20220818T190000
DTEND;TZID=Europe/Rome:20220818T200000
DTSTAMP:20260420T044814
CREATED:20180817T181514Z
LAST-MODIFIED:20180817T181531Z
UID:10001395-1660849200-1660852800@www.nordicwalkingtoscana.it
SUMMARY:Lezione prova gratuita
DESCRIPTION:Perché non approfittare delle vacanze per provare il nordic walking? A Firenze é possibile anche ad agosto telefonando al 3388364241 o compilando il modulo sottostante. Oltre a martedì e giovedì sono possibili altre date su richiesta. Prenotazione obbligatoria. \n  \n\n	Avviso: JavaScript è obbligatorio per questo contenuto.\n\n\n    \n\n\n        \n        \n         \n \n  \n 
URL:https://www.nordicwalkingtoscana.it/evento/lezione-prova-gratuita-2/2022-08-18/
LOCATION:Firenze Via Carlo Alberto Dalla Chiesa
END:VEVENT
BEGIN:VEVENT
DTSTART;TZID=Europe/Rome:20220816T190000
DTEND;TZID=Europe/Rome:20220816T200000
DTSTAMP:20260420T044814
CREATED:20180817T181514Z
LAST-MODIFIED:20180817T181531Z
UID:10001394-1660676400-1660680000@www.nordicwalkingtoscana.it
SUMMARY:Lezione prova gratuita
DESCRIPTION:Perché non approfittare delle vacanze per provare il nordic walking? A Firenze é possibile anche ad agosto telefonando al 3388364241 o compilando il modulo sottostante. Oltre a martedì e giovedì sono possibili altre date su richiesta. Prenotazione obbligatoria. \n  \n\n	Avviso: JavaScript è obbligatorio per questo contenuto.\n\n\n    \n\n\n        \n        \n         \n \n  \n 
URL:https://www.nordicwalkingtoscana.it/evento/lezione-prova-gratuita-2/2022-08-16/
LOCATION:Firenze Via Carlo Alberto Dalla Chiesa
END:VEVENT
BEGIN:VEVENT
DTSTART;TZID=Europe/Rome:20220811T190000
DTEND;TZID=Europe/Rome:20220811T200000
DTSTAMP:20260420T044814
CREATED:20180817T181514Z
LAST-MODIFIED:20180817T181531Z
UID:10001393-1660244400-1660248000@www.nordicwalkingtoscana.it
SUMMARY:Lezione prova gratuita
DESCRIPTION:Perché non approfittare delle vacanze per provare il nordic walking? A Firenze é possibile anche ad agosto telefonando al 3388364241 o compilando il modulo sottostante. Oltre a martedì e giovedì sono possibili altre date su richiesta. Prenotazione obbligatoria. \n  \n\n	Avviso: JavaScript è obbligatorio per questo contenuto.\n\n\n    \n\n\n        \n        \n         \n \n  \n 
URL:https://www.nordicwalkingtoscana.it/evento/lezione-prova-gratuita-2/2022-08-11/
LOCATION:Firenze Via Carlo Alberto Dalla Chiesa
END:VEVENT
BEGIN:VEVENT
DTSTART;TZID=Europe/Rome:20220809T190000
DTEND;TZID=Europe/Rome:20220809T200000
DTSTAMP:20260420T044814
CREATED:20180817T181514Z
LAST-MODIFIED:20180817T181531Z
UID:10001392-1660071600-1660075200@www.nordicwalkingtoscana.it
SUMMARY:Lezione prova gratuita
DESCRIPTION:Perché non approfittare delle vacanze per provare il nordic walking? A Firenze é possibile anche ad agosto telefonando al 3388364241 o compilando il modulo sottostante. Oltre a martedì e giovedì sono possibili altre date su richiesta. Prenotazione obbligatoria. \n  \n\n	Avviso: JavaScript è obbligatorio per questo contenuto.\n\n\n    \n\n\n        \n        \n         \n \n  \n 
URL:https://www.nordicwalkingtoscana.it/evento/lezione-prova-gratuita-2/2022-08-09/
LOCATION:Firenze Via Carlo Alberto Dalla Chiesa
END:VEVENT
BEGIN:VEVENT
DTSTART;TZID=Europe/Rome:20220804T190000
DTEND;TZID=Europe/Rome:20220804T200000
DTSTAMP:20260420T044814
CREATED:20180817T181514Z
LAST-MODIFIED:20180817T181531Z
UID:10001391-1659639600-1659643200@www.nordicwalkingtoscana.it
SUMMARY:Lezione prova gratuita
DESCRIPTION:Perché non approfittare delle vacanze per provare il nordic walking? A Firenze é possibile anche ad agosto telefonando al 3388364241 o compilando il modulo sottostante. Oltre a martedì e giovedì sono possibili altre date su richiesta. Prenotazione obbligatoria. \n  \n\n	Avviso: JavaScript è obbligatorio per questo contenuto.\n\n\n    \n\n\n        \n        \n         \n \n  \n 
URL:https://www.nordicwalkingtoscana.it/evento/lezione-prova-gratuita-2/2022-08-04/
LOCATION:Firenze Via Carlo Alberto Dalla Chiesa
END:VEVENT
BEGIN:VEVENT
DTSTART;TZID=Europe/Rome:20220802T190000
DTEND;TZID=Europe/Rome:20220802T200000
DTSTAMP:20260420T044814
CREATED:20180817T181514Z
LAST-MODIFIED:20180817T181531Z
UID:10001390-1659466800-1659470400@www.nordicwalkingtoscana.it
SUMMARY:Lezione prova gratuita
DESCRIPTION:Perché non approfittare delle vacanze per provare il nordic walking? A Firenze é possibile anche ad agosto telefonando al 3388364241 o compilando il modulo sottostante. Oltre a martedì e giovedì sono possibili altre date su richiesta. Prenotazione obbligatoria. \n  \n\n	Avviso: JavaScript è obbligatorio per questo contenuto.\n\n\n    \n\n\n        \n        \n         \n \n  \n 
URL:https://www.nordicwalkingtoscana.it/evento/lezione-prova-gratuita-2/2022-08-02/
LOCATION:Firenze Via Carlo Alberto Dalla Chiesa
END:VEVENT
BEGIN:VEVENT
DTSTART;TZID=Europe/Rome:20220728T190000
DTEND;TZID=Europe/Rome:20220728T200000
DTSTAMP:20260420T044814
CREATED:20180817T181514Z
LAST-MODIFIED:20180817T181531Z
UID:10001389-1659034800-1659038400@www.nordicwalkingtoscana.it
SUMMARY:Lezione prova gratuita
DESCRIPTION:Perché non approfittare delle vacanze per provare il nordic walking? A Firenze é possibile anche ad agosto telefonando al 3388364241 o compilando il modulo sottostante. Oltre a martedì e giovedì sono possibili altre date su richiesta. Prenotazione obbligatoria. \n  \n\n	Avviso: JavaScript è obbligatorio per questo contenuto.\n\n\n    \n\n\n        \n        \n         \n \n  \n 
URL:https://www.nordicwalkingtoscana.it/evento/lezione-prova-gratuita-2/2022-07-28/
LOCATION:Firenze Via Carlo Alberto Dalla Chiesa
END:VEVENT
BEGIN:VEVENT
DTSTART;TZID=Europe/Rome:20220726T190000
DTEND;TZID=Europe/Rome:20220726T200000
DTSTAMP:20260420T044814
CREATED:20180817T181514Z
LAST-MODIFIED:20180817T181531Z
UID:10001388-1658862000-1658865600@www.nordicwalkingtoscana.it
SUMMARY:Lezione prova gratuita
DESCRIPTION:Perché non approfittare delle vacanze per provare il nordic walking? A Firenze é possibile anche ad agosto telefonando al 3388364241 o compilando il modulo sottostante. Oltre a martedì e giovedì sono possibili altre date su richiesta. Prenotazione obbligatoria. \n  \n\n	Avviso: JavaScript è obbligatorio per questo contenuto.\n\n\n    \n\n\n        \n        \n         \n \n  \n 
URL:https://www.nordicwalkingtoscana.it/evento/lezione-prova-gratuita-2/2022-07-26/
LOCATION:Firenze Via Carlo Alberto Dalla Chiesa
END:VEVENT
BEGIN:VEVENT
DTSTART;TZID=Europe/Rome:20220721T190000
DTEND;TZID=Europe/Rome:20220721T200000
DTSTAMP:20260420T044814
CREATED:20180817T181514Z
LAST-MODIFIED:20180817T181531Z
UID:10001387-1658430000-1658433600@www.nordicwalkingtoscana.it
SUMMARY:Lezione prova gratuita
DESCRIPTION:Perché non approfittare delle vacanze per provare il nordic walking? A Firenze é possibile anche ad agosto telefonando al 3388364241 o compilando il modulo sottostante. Oltre a martedì e giovedì sono possibili altre date su richiesta. Prenotazione obbligatoria. \n  \n\n	Avviso: JavaScript è obbligatorio per questo contenuto.\n\n\n    \n\n\n        \n        \n         \n \n  \n 
URL:https://www.nordicwalkingtoscana.it/evento/lezione-prova-gratuita-2/2022-07-21/
LOCATION:Firenze Via Carlo Alberto Dalla Chiesa
END:VEVENT
BEGIN:VEVENT
DTSTART;TZID=Europe/Rome:20220719T190000
DTEND;TZID=Europe/Rome:20220719T200000
DTSTAMP:20260420T044814
CREATED:20180817T181514Z
LAST-MODIFIED:20180817T181531Z
UID:10001386-1658257200-1658260800@www.nordicwalkingtoscana.it
SUMMARY:Lezione prova gratuita
DESCRIPTION:Perché non approfittare delle vacanze per provare il nordic walking? A Firenze é possibile anche ad agosto telefonando al 3388364241 o compilando il modulo sottostante. Oltre a martedì e giovedì sono possibili altre date su richiesta. Prenotazione obbligatoria. \n  \n\n	Avviso: JavaScript è obbligatorio per questo contenuto.\n\n\n    \n\n\n        \n        \n         \n \n  \n 
URL:https://www.nordicwalkingtoscana.it/evento/lezione-prova-gratuita-2/2022-07-19/
LOCATION:Firenze Via Carlo Alberto Dalla Chiesa
END:VEVENT
BEGIN:VEVENT
DTSTART;TZID=Europe/Rome:20220714T190000
DTEND;TZID=Europe/Rome:20220714T200000
DTSTAMP:20260420T044814
CREATED:20180817T181514Z
LAST-MODIFIED:20180817T181531Z
UID:10001385-1657825200-1657828800@www.nordicwalkingtoscana.it
SUMMARY:Lezione prova gratuita
DESCRIPTION:Perché non approfittare delle vacanze per provare il nordic walking? A Firenze é possibile anche ad agosto telefonando al 3388364241 o compilando il modulo sottostante. Oltre a martedì e giovedì sono possibili altre date su richiesta. Prenotazione obbligatoria. \n  \n\n	Avviso: JavaScript è obbligatorio per questo contenuto.\n\n\n    \n\n\n        \n        \n         \n \n  \n 
URL:https://www.nordicwalkingtoscana.it/evento/lezione-prova-gratuita-2/2022-07-14/
LOCATION:Firenze Via Carlo Alberto Dalla Chiesa
END:VEVENT
BEGIN:VEVENT
DTSTART;TZID=Europe/Rome:20220712T190000
DTEND;TZID=Europe/Rome:20220712T200000
DTSTAMP:20260420T044814
CREATED:20180817T181514Z
LAST-MODIFIED:20180817T181531Z
UID:10001384-1657652400-1657656000@www.nordicwalkingtoscana.it
SUMMARY:Lezione prova gratuita
DESCRIPTION:Perché non approfittare delle vacanze per provare il nordic walking? A Firenze é possibile anche ad agosto telefonando al 3388364241 o compilando il modulo sottostante. Oltre a martedì e giovedì sono possibili altre date su richiesta. Prenotazione obbligatoria. \n  \n\n	Avviso: JavaScript è obbligatorio per questo contenuto.\n\n\n    \n\n\n        \n        \n         \n \n  \n 
URL:https://www.nordicwalkingtoscana.it/evento/lezione-prova-gratuita-2/2022-07-12/
LOCATION:Firenze Via Carlo Alberto Dalla Chiesa
END:VEVENT
BEGIN:VEVENT
DTSTART;TZID=Europe/Rome:20220707T190000
DTEND;TZID=Europe/Rome:20220707T200000
DTSTAMP:20260420T044814
CREATED:20180817T181514Z
LAST-MODIFIED:20180817T181531Z
UID:10001383-1657220400-1657224000@www.nordicwalkingtoscana.it
SUMMARY:Lezione prova gratuita
DESCRIPTION:Perché non approfittare delle vacanze per provare il nordic walking? A Firenze é possibile anche ad agosto telefonando al 3388364241 o compilando il modulo sottostante. Oltre a martedì e giovedì sono possibili altre date su richiesta. Prenotazione obbligatoria. \n  \n\n	Avviso: JavaScript è obbligatorio per questo contenuto.\n\n\n    \n\n\n        \n        \n         \n \n  \n 
URL:https://www.nordicwalkingtoscana.it/evento/lezione-prova-gratuita-2/2022-07-07/
LOCATION:Firenze Via Carlo Alberto Dalla Chiesa
END:VEVENT
BEGIN:VEVENT
DTSTART;TZID=Europe/Rome:20220705T190000
DTEND;TZID=Europe/Rome:20220705T200000
DTSTAMP:20260420T044814
CREATED:20180817T181514Z
LAST-MODIFIED:20180817T181531Z
UID:10001382-1657047600-1657051200@www.nordicwalkingtoscana.it
SUMMARY:Lezione prova gratuita
DESCRIPTION:Perché non approfittare delle vacanze per provare il nordic walking? A Firenze é possibile anche ad agosto telefonando al 3388364241 o compilando il modulo sottostante. Oltre a martedì e giovedì sono possibili altre date su richiesta. Prenotazione obbligatoria. \n  \n\n	Avviso: JavaScript è obbligatorio per questo contenuto.\n\n\n    \n\n\n        \n        \n         \n \n  \n 
URL:https://www.nordicwalkingtoscana.it/evento/lezione-prova-gratuita-2/2022-07-05/
LOCATION:Firenze Via Carlo Alberto Dalla Chiesa
END:VEVENT
BEGIN:VEVENT
DTSTART;TZID=Europe/Rome:20220630T190000
DTEND;TZID=Europe/Rome:20220630T200000
DTSTAMP:20260420T044814
CREATED:20180817T181514Z
LAST-MODIFIED:20180817T181531Z
UID:10001381-1656615600-1656619200@www.nordicwalkingtoscana.it
SUMMARY:Lezione prova gratuita
DESCRIPTION:Perché non approfittare delle vacanze per provare il nordic walking? A Firenze é possibile anche ad agosto telefonando al 3388364241 o compilando il modulo sottostante. Oltre a martedì e giovedì sono possibili altre date su richiesta. Prenotazione obbligatoria. \n  \n\n	Avviso: JavaScript è obbligatorio per questo contenuto.\n\n\n    \n\n\n        \n        \n         \n \n  \n 
URL:https://www.nordicwalkingtoscana.it/evento/lezione-prova-gratuita-2/2022-06-30/
LOCATION:Firenze Via Carlo Alberto Dalla Chiesa
END:VEVENT
BEGIN:VEVENT
DTSTART;TZID=Europe/Rome:20220628T190000
DTEND;TZID=Europe/Rome:20220628T200000
DTSTAMP:20260420T044814
CREATED:20180817T181514Z
LAST-MODIFIED:20180817T181531Z
UID:10001380-1656442800-1656446400@www.nordicwalkingtoscana.it
SUMMARY:Lezione prova gratuita
DESCRIPTION:Perché non approfittare delle vacanze per provare il nordic walking? A Firenze é possibile anche ad agosto telefonando al 3388364241 o compilando il modulo sottostante. Oltre a martedì e giovedì sono possibili altre date su richiesta. Prenotazione obbligatoria. \n  \n\n	Avviso: JavaScript è obbligatorio per questo contenuto.\n\n\n    \n\n\n        \n        \n         \n \n  \n 
URL:https://www.nordicwalkingtoscana.it/evento/lezione-prova-gratuita-2/2022-06-28/
LOCATION:Firenze Via Carlo Alberto Dalla Chiesa
END:VEVENT
BEGIN:VEVENT
DTSTART;TZID=Europe/Rome:20220623T190000
DTEND;TZID=Europe/Rome:20220623T200000
DTSTAMP:20260420T044814
CREATED:20180817T181514Z
LAST-MODIFIED:20180817T181531Z
UID:10001379-1656010800-1656014400@www.nordicwalkingtoscana.it
SUMMARY:Lezione prova gratuita
DESCRIPTION:Perché non approfittare delle vacanze per provare il nordic walking? A Firenze é possibile anche ad agosto telefonando al 3388364241 o compilando il modulo sottostante. Oltre a martedì e giovedì sono possibili altre date su richiesta. Prenotazione obbligatoria. \n  \n\n	Avviso: JavaScript è obbligatorio per questo contenuto.\n\n\n    \n\n\n        \n        \n         \n \n  \n 
URL:https://www.nordicwalkingtoscana.it/evento/lezione-prova-gratuita-2/2022-06-23/
LOCATION:Firenze Via Carlo Alberto Dalla Chiesa
END:VEVENT
BEGIN:VEVENT
DTSTART;TZID=Europe/Rome:20220621T190000
DTEND;TZID=Europe/Rome:20220621T200000
DTSTAMP:20260420T044814
CREATED:20180817T181514Z
LAST-MODIFIED:20180817T181531Z
UID:10001378-1655838000-1655841600@www.nordicwalkingtoscana.it
SUMMARY:Lezione prova gratuita
DESCRIPTION:Perché non approfittare delle vacanze per provare il nordic walking? A Firenze é possibile anche ad agosto telefonando al 3388364241 o compilando il modulo sottostante. Oltre a martedì e giovedì sono possibili altre date su richiesta. Prenotazione obbligatoria. \n  \n\n	Avviso: JavaScript è obbligatorio per questo contenuto.\n\n\n    \n\n\n        \n        \n         \n \n  \n 
URL:https://www.nordicwalkingtoscana.it/evento/lezione-prova-gratuita-2/2022-06-21/
LOCATION:Firenze Via Carlo Alberto Dalla Chiesa
END:VEVENT
BEGIN:VEVENT
DTSTART;TZID=Europe/Rome:20220616T190000
DTEND;TZID=Europe/Rome:20220616T200000
DTSTAMP:20260420T044814
CREATED:20180817T181514Z
LAST-MODIFIED:20180817T181531Z
UID:10001377-1655406000-1655409600@www.nordicwalkingtoscana.it
SUMMARY:Lezione prova gratuita
DESCRIPTION:Perché non approfittare delle vacanze per provare il nordic walking? A Firenze é possibile anche ad agosto telefonando al 3388364241 o compilando il modulo sottostante. Oltre a martedì e giovedì sono possibili altre date su richiesta. Prenotazione obbligatoria. \n  \n\n	Avviso: JavaScript è obbligatorio per questo contenuto.\n\n\n    \n\n\n        \n        \n         \n \n  \n 
URL:https://www.nordicwalkingtoscana.it/evento/lezione-prova-gratuita-2/2022-06-16/
LOCATION:Firenze Via Carlo Alberto Dalla Chiesa
END:VEVENT
BEGIN:VEVENT
DTSTART;TZID=Europe/Rome:20220614T190000
DTEND;TZID=Europe/Rome:20220614T200000
DTSTAMP:20260420T044814
CREATED:20180817T181514Z
LAST-MODIFIED:20180817T181531Z
UID:10001376-1655233200-1655236800@www.nordicwalkingtoscana.it
SUMMARY:Lezione prova gratuita
DESCRIPTION:Perché non approfittare delle vacanze per provare il nordic walking? A Firenze é possibile anche ad agosto telefonando al 3388364241 o compilando il modulo sottostante. Oltre a martedì e giovedì sono possibili altre date su richiesta. Prenotazione obbligatoria. \n  \n\n	Avviso: JavaScript è obbligatorio per questo contenuto.\n\n\n    \n\n\n        \n        \n         \n \n  \n 
URL:https://www.nordicwalkingtoscana.it/evento/lezione-prova-gratuita-2/2022-06-14/
LOCATION:Firenze Via Carlo Alberto Dalla Chiesa
END:VEVENT
BEGIN:VEVENT
DTSTART;TZID=Europe/Rome:20220609T190000
DTEND;TZID=Europe/Rome:20220609T200000
DTSTAMP:20260420T044814
CREATED:20180817T181514Z
LAST-MODIFIED:20180817T181531Z
UID:10001375-1654801200-1654804800@www.nordicwalkingtoscana.it
SUMMARY:Lezione prova gratuita
DESCRIPTION:Perché non approfittare delle vacanze per provare il nordic walking? A Firenze é possibile anche ad agosto telefonando al 3388364241 o compilando il modulo sottostante. Oltre a martedì e giovedì sono possibili altre date su richiesta. Prenotazione obbligatoria. \n  \n\n	Avviso: JavaScript è obbligatorio per questo contenuto.\n\n\n    \n\n\n        \n        \n         \n \n  \n 
URL:https://www.nordicwalkingtoscana.it/evento/lezione-prova-gratuita-2/2022-06-09/
LOCATION:Firenze Via Carlo Alberto Dalla Chiesa
END:VEVENT
BEGIN:VEVENT
DTSTART;TZID=Europe/Rome:20220607T190000
DTEND;TZID=Europe/Rome:20220607T200000
DTSTAMP:20260420T044814
CREATED:20180817T181514Z
LAST-MODIFIED:20180817T181531Z
UID:10001374-1654628400-1654632000@www.nordicwalkingtoscana.it
SUMMARY:Lezione prova gratuita
DESCRIPTION:Perché non approfittare delle vacanze per provare il nordic walking? A Firenze é possibile anche ad agosto telefonando al 3388364241 o compilando il modulo sottostante. Oltre a martedì e giovedì sono possibili altre date su richiesta. Prenotazione obbligatoria. \n  \n\n	Avviso: JavaScript è obbligatorio per questo contenuto.\n\n\n    \n\n\n        \n        \n         \n \n  \n 
URL:https://www.nordicwalkingtoscana.it/evento/lezione-prova-gratuita-2/2022-06-07/
LOCATION:Firenze Via Carlo Alberto Dalla Chiesa
END:VEVENT
END:VCALENDAR