BEGIN:VCALENDAR
VERSION:2.0
PRODID:-//Nordic Walking Toscana - ECPv6.13.1//NONSGML v1.0//EN
CALSCALE:GREGORIAN
METHOD:PUBLISH
X-ORIGINAL-URL:https://www.nordicwalkingtoscana.it
X-WR-CALDESC:Eventi per Nordic Walking Toscana
REFRESH-INTERVAL;VALUE=DURATION:PT1H
X-Robots-Tag:noindex
X-PUBLISHED-TTL:PT1H
BEGIN:VTIMEZONE
TZID:Europe/Rome
BEGIN:DAYLIGHT
TZOFFSETFROM:+0100
TZOFFSETTO:+0200
TZNAME:CEST
DTSTART:20250330T010000
END:DAYLIGHT
BEGIN:STANDARD
TZOFFSETFROM:+0200
TZOFFSETTO:+0100
TZNAME:CET
DTSTART:20251026T010000
END:STANDARD
END:VTIMEZONE
BEGIN:VEVENT
DTSTART;TZID=Europe/Rome:20250301T090000
DTEND;TZID=Europe/Rome:20250301T130000
DTSTAMP:20260420T015558
CREATED:20240825T084725Z
LAST-MODIFIED:20250203T141844Z
UID:10001844-1740819600-1740834000@www.nordicwalkingtoscana.it
SUMMARY:Sabato 1° Marzo 2025 Corso Base di Nordic Walking a Firenze Sud
DESCRIPTION:Sabato 1° Marzo 2025  Corso Base di Nordic Walking a Firenze Sud Parco di Villa Favard.\nUn’ottima occasione per fare un corso base per apprendere il Nordic Walking e tornare in forma divertendosi! Il Nordic Walking é uno sport completo\, adatto a tutti si pratica all’aria aperta\, è in grado di migliorare la capacità aerobica\, tonificare la maggior parte dei muscoli del corpo e recuperare il modo corretto di camminare o “camminata naturale” .\nSenza contare che imparando il Nordic Walking é possibile entrare a far parte del nostro motivatissimo team  e camminare nei luoghi più belli della Toscana e non solo!\nIl corso base comprende: \n✅ Il rilascio di un diploma. \n✅ L’uso dei bastoncini specifici. ( si consiglia l’acquisto dopo il corso ) \n✅Un coupon per due ulteriori Lezioni da usare entro 1 mese dal corso base. \n✅ I nostri Gadget. La nostra spilla. \nNon sono previsti costi aggiuntivi di alcun tipo (tessera associativa o altro)\nTutte le nostre attività sono coperte da assicurazione. \nCosto € 50 \nRitrovo ore 9.00 . Necessario abbigliamento comodo e scarpe da ginnastica.\n✅Prenotazione obbligatoria!\n✅ Posti LIMITATI ➡️ Iscriviti ORA compilando il modulo sottostante indicando su Evento scelto  “Corso Base del 1° Marzo” entro Venerdì 28 Febbraio  ⬇️Per informazioni ☎ 3388364241 \n \n  \n\n	Avviso: JavaScript è obbligatorio per questo contenuto.
URL:https://www.nordicwalkingtoscana.it/evento/sabato-7-settembre-2024-corso-base-di-nordic-walking-a-firenze-sud/
LOCATION:Parco di Villa Favard
CATEGORIES:Corso base
END:VEVENT
BEGIN:VEVENT
DTSTART;VALUE=DATE:20250302
DTEND;VALUE=DATE:20250303
DTSTAMP:20260420T015558
CREATED:20240226T111241Z
LAST-MODIFIED:20250224T094314Z
UID:10001811-1740873600-1740959999@www.nordicwalkingtoscana.it
SUMMARY:Domenica 2 Marzo 2025 a San Gimignano\, sulle sue colline fino a Pietrafitta a passo di Nordic Walking
DESCRIPTION:NORDIC WALKING TOSCANA propone Domenica 2 Marzo 2024 una lezione Itinerante a San Gimignano\, con visita al Borgo e sulle sue Colline fino a Pietrafitta. a passo di Nordic Walking. Percorso  13 km. Difficoltà: Media\, con circa 350 m. di dislivelli\, fondo misto\, prevalentemente Sterrato. Test per prossime tappe sulla Francigena. Prenotazione obbligatoria entro Venerdì 28 Febbraio compilando il modulo sottostante\, indicando nel campo Evento scelto: ” San Gimignano / Francigena ” \n \n\n	Avviso: JavaScript è obbligatorio per questo contenuto.
URL:https://www.nordicwalkingtoscana.it/evento/domenica-3-marzo-2024-a-san-gimignano-sulle-sue-colline-fino-a-pietrafitta-a-passo-di-nordic-walking/
LOCATION:San Gimignano
CATEGORIES:Lezione itinerante
END:VEVENT
BEGIN:VEVENT
DTSTART;VALUE=DATE:20250309
DTEND;VALUE=DATE:20250310
DTSTAMP:20260420T015558
CREATED:20240304T162619Z
LAST-MODIFIED:20250314T165012Z
UID:10001815-1741478400-1741564799@www.nordicwalkingtoscana.it
SUMMARY:Domenica 9 Marzo 2025 a Sant'Andrea a Compito per il Festival delle Camelie a passo di Nordic Walking
DESCRIPTION:NORDIC WALKING TOSCANA propone Domenica 9 Marzo 2025 una lezione Itinerante a Sant’Andrea a Compito in occasione della XXXVI  Mostra delle Antiche Camelie della Lucchesia\, visita guidata allo storico Camelieto e sulle colline circostanti: San Leonardo in Treponzio\, Pieve di Compito e lungo la Vecchia Ferrovia Lucca-Pontedera a passo di Nordic Walking. Percorso di 9 km. Difficoltà: Media\, fondo misto\, prevalentemente Sterrato. Prenotazione obbligatoria entro Giovedì 7 compilando il modulo sottostante\, indicando nel campo Evento scelto: ” Camelie ” \n \n  \n\n	Avviso: JavaScript è obbligatorio per questo contenuto.
URL:https://www.nordicwalkingtoscana.it/evento/domenica-10-marzo-2024-a-santandrea-a-compito-per-il-festival-delle-camelie-a-passo-di-nordic-walking/
LOCATION:Sant’andrea a Compito
CATEGORIES:Lezione itinerante
END:VEVENT
BEGIN:VEVENT
DTSTART;TZID=Europe/Rome:20250315T090000
DTEND;TZID=Europe/Rome:20250315T130000
DTSTAMP:20260420T015558
CREATED:20240825T090204Z
LAST-MODIFIED:20250314T163748Z
UID:10001845-1742029200-1742043600@www.nordicwalkingtoscana.it
SUMMARY:Sabato 15 Marzo 2025 Corso Base di Nordic Walking al Parco di San Donato
DESCRIPTION:Sabato 15 Marzo 2025 Corso Base di Nordic Walking a Firenze Parco di San Donato \nIn convenzione con l’Associazione Piazza San Donato. \nUn’ottima occasione per fare un corso base per apprendere il nordic walking e tornare in forma divertendosi! Il nordic walking é uno sport completo\, adatto a tutti\, si pratica all’aria aperta\, è in grado di migliorare la capacità aerobica\, tonificare la maggior parte dei muscoli del corpo e recuperare il modo corretto di camminare o “camminata naturale” .\nSenza contare che imparando il nordic walking é possibile entrare a far parte del nostro motivatissimo team di nordic walkers e camminare nei luoghi più belli della Toscana e non solo!\nIl corso base comprende: \n✅il rilascio di un diploma\, \n✅l’uso dei bastoncini specifici ( Si consiglia l’acquisto dopo il Corso ) \n✅un coupon per 2 ulteriori lezioni da usare entro 1 mese dal corso base. \n✅ I nostri Gadget. ( la nostra spilla e la busta zainetto personalizzata) \nGli associati dell’Associazione Piazza San Donato avranno diritto ad un ulteriore coupon gratuito per un  allenamento. \nCosto € 50 \nNon sono previsti costi aggiuntivi di alcun tipo (tessera associativa o altro)\nTutte le nostre attività sono coperte da assicurazione. \nRitrovo ore 9  Necessario abbigliamento comodo e scarpe da ginnastica.\n✅Prenotazione obbligatoria!\n✅ Posti LIMITATI ➡️ Iscriviti ORA compilando il modulo sottostante indicando su ” Evento scelto ” Corso Base del 15 Marzo “ entro venerdì 14  ⬇️Per informazioni: Nordic Walking Toscana ☎ 3388364241 Ass. San Donato 3473535344 \n \n  \n 
URL:https://www.nordicwalkingtoscana.it/evento/sabato-14-settembre-2024-corso-base-di-nordic-walking-al-parco-di-san-donato/
LOCATION:Parco di San Donato Firenze\, Via Sandro Pertini\, Firenze\, FI\, Italia
CATEGORIES:Corso base
GEO:43.792896;11.2276237
X-APPLE-STRUCTURED-LOCATION;VALUE=URI;X-ADDRESS=Parco di San Donato Firenze Via Sandro Pertini Firenze FI Italia;X-APPLE-RADIUS=500;X-TITLE=Via Sandro Pertini:geo:11.2276237,43.792896
END:VEVENT
BEGIN:VEVENT
DTSTART;TZID=Europe/Rome:20250316T090000
DTEND;TZID=Europe/Rome:20250316T130000
DTSTAMP:20260420T015558
CREATED:20250311T165512Z
LAST-MODIFIED:20250318T215913Z
UID:10001862-1742115600-1742130000@www.nordicwalkingtoscana.it
SUMMARY:Domenica 16 Marzo 2025 a Sulle colline di Bagno a Ripoli per la fioritura dei Narcisi a passo di Nordic Walking
DESCRIPTION:NORDIC WALKING TOSCANA propone Domenica 16 Marzo 2025 una lezione Itinerante sulle colline di Bagno a Ripoli alla ricerca delle fioriture primaverili dei Narcisi  a passo di Nordic Walking. Percorso  8 km. Difficoltà: Media\, fondo misto\, prevalentemente Sterrato. Prenotazione obbligatoria entro Venerdì 14 compilando il modulo sottostante\, indicando nel campo Evento scelto: ” Narcisi ” \n \n\n	Avviso: JavaScript è obbligatorio per questo contenuto.
URL:https://www.nordicwalkingtoscana.it/evento/domenica-16-marzo-2025-a-sulle-colline-di-bagno-a-ripoli-per-la-fioritura-dei-narcisi-a-passo-di-nordic-walking/
LOCATION:Antella bagno a Ripoli\, Via Palmiro Togliatti\, Bagno a Ripoli\, FI\, 50012\, Italia
CATEGORIES:Lezione itinerante
GEO:43.725822;11.3208972
X-APPLE-STRUCTURED-LOCATION;VALUE=URI;X-ADDRESS=Antella bagno a Ripoli Via Palmiro Togliatti Bagno a Ripoli FI 50012 Italia;X-APPLE-RADIUS=500;X-TITLE=Via Palmiro Togliatti:geo:11.3208972,43.725822
END:VEVENT
BEGIN:VEVENT
DTSTART;TZID=Europe/Rome:20250322T080000
DTEND;TZID=Europe/Rome:20250322T130000
DTSTAMP:20260420T015558
CREATED:20250314T164625Z
LAST-MODIFIED:20250316T213737Z
UID:10001863-1742630400-1742648400@www.nordicwalkingtoscana.it
SUMMARY:Sabato 22 Marzo 2025 Corso Base di Nordic Walking al Parco di San Donato
DESCRIPTION:Sabato 22 Marzo 2025 Corso Base di Nordic Walking a Firenze Parco di San Donato \nIn convenzione con l’Associazione Piazza San Donato. \nUn’ottima occasione per fare un corso base per apprendere il nordic walking e tornare in forma divertendosi! Il nordic walking é uno sport completo\, adatto a tutti\, si pratica all’aria aperta\, è in grado di migliorare la capacità aerobica\, tonificare la maggior parte dei muscoli del corpo e recuperare il modo corretto di camminare o “camminata naturale” .\nSenza contare che imparando il nordic walking é possibile entrare a far parte del nostro motivatissimo team di nordic walkers e camminare nei luoghi più belli della Toscana e non solo!\nIl corso base comprende: \n✅il rilascio di un diploma\, \n✅l’uso dei bastoncini specifici ( Si consiglia l’acquisto dopo il Corso ) \n✅un coupon per 2 ulteriori lezioni da usare entro 1 mese dal corso base. \n✅ I nostri Gadget. ( la nostra spilla e la busta zainetto personalizzata) \nGli associati dell’Associazione Piazza San Donato avranno diritto ad un ulteriore coupon gratuito per un  allenamento. \nCosto € 50 \nNon sono previsti costi aggiuntivi di alcun tipo (tessera associativa o altro)\nTutte le nostre attività sono coperte da assicurazione. \nRitrovo ore 9  Necessario abbigliamento comodo e scarpe da ginnastica.\n✅Prenotazione obbligatoria!\n✅ Posti LIMITATI ➡️ Iscriviti ORA compilando il modulo sottostante indicando su ” Evento scelto ” Corso Base del 22 Marzo “ entro venerdì 21  ⬇️Per informazioni: Nordic Walking Toscana ☎ 3388364241 Ass. San Donato 3473535344 \n \n  \n\n	Avviso: JavaScript è obbligatorio per questo contenuto.
URL:https://www.nordicwalkingtoscana.it/evento/sabato-22-marzo-2025-corso-base-di-nordic-walking-al-parco-di-san-donato/
LOCATION:Parco di San Donato Firenze\, Via Sandro Pertini\, Firenze\, FI\, Italia
CATEGORIES:Corso base
GEO:43.792896;11.2276237
X-APPLE-STRUCTURED-LOCATION;VALUE=URI;X-ADDRESS=Parco di San Donato Firenze Via Sandro Pertini Firenze FI Italia;X-APPLE-RADIUS=500;X-TITLE=Via Sandro Pertini:geo:11.2276237,43.792896
END:VEVENT
BEGIN:VEVENT
DTSTART;TZID=Europe/Rome:20250323T090000
DTEND;TZID=Europe/Rome:20250323T130000
DTSTAMP:20260420T015558
CREATED:20250318T215443Z
LAST-MODIFIED:20250407T111230Z
UID:10001864-1742720400-1742734800@www.nordicwalkingtoscana.it
SUMMARY:Domenica 23 Marzo 2025 a Montefioralle a passo di Nordic Walking
DESCRIPTION:NORDIC WALKING TOSCANA propone Domenica 23 Marzo 2025 una lezione Itinerante sulle colline di Greve in Chianti ed a Montefioralle in occasione della festa delle Frittelle a passo di Nordic Walking. Percorso  7 km. Difficoltà: Media\, fondo misto\, prevalentemente Sterrato. Prenotazione obbligatoria entro Venerdì 21 compilando il modulo sottostante\, indicando nel campo Evento scelto: ” Montefioralle ” \n \n\n	Avviso: JavaScript è obbligatorio per questo contenuto.
URL:https://www.nordicwalkingtoscana.it/evento/domenica-23-marzo-2025-a-montefioralle-a-passo-di-nordic-walking/
LOCATION:Montefioralle
CATEGORIES:Lezione itinerante
END:VEVENT
END:VCALENDAR