BEGIN:VCALENDAR
VERSION:2.0
PRODID:-//Nordic Walking Toscana - ECPv6.13.1//NONSGML v1.0//EN
CALSCALE:GREGORIAN
METHOD:PUBLISH
X-ORIGINAL-URL:https://www.nordicwalkingtoscana.it
X-WR-CALDESC:Eventi per Nordic Walking Toscana
REFRESH-INTERVAL;VALUE=DURATION:PT1H
X-Robots-Tag:noindex
X-PUBLISHED-TTL:PT1H
BEGIN:VTIMEZONE
TZID:Europe/Rome
BEGIN:DAYLIGHT
TZOFFSETFROM:+0100
TZOFFSETTO:+0200
TZNAME:CEST
DTSTART:20210328T010000
END:DAYLIGHT
BEGIN:STANDARD
TZOFFSETFROM:+0200
TZOFFSETTO:+0100
TZNAME:CET
DTSTART:20211031T010000
END:STANDARD
BEGIN:DAYLIGHT
TZOFFSETFROM:+0100
TZOFFSETTO:+0200
TZNAME:CEST
DTSTART:20220327T010000
END:DAYLIGHT
BEGIN:STANDARD
TZOFFSETFROM:+0200
TZOFFSETTO:+0100
TZNAME:CET
DTSTART:20221030T010000
END:STANDARD
END:VTIMEZONE
BEGIN:VEVENT
DTSTART;TZID=Europe/Rome:20220703T080000
DTEND;TZID=Europe/Rome:20220703T123000
DTSTAMP:20260420T045508
CREATED:20220628T193551Z
LAST-MODIFIED:20220629T145048Z
UID:10001738-1656835200-1656851400@www.nordicwalkingtoscana.it
SUMMARY:Vallombrosa e le Douglasie a passo di nordic walking
DESCRIPTION:Domenica 3 luglio andiamo a Vallombrosa a vedere gli alberi più alti d’Italia\, le douglasie\, a passo di nordic walking. Percorso sterrato con molti saliscendi di km 9 . Per iscriversi compilare il modulo sottostante entro venerdì 1 luglio. \n \n\n	Avviso: JavaScript è obbligatorio per questo contenuto.\n\n\n    \n\n\n        \n        \n        \n 
URL:https://www.nordicwalkingtoscana.it/evento/vallombrosa-e-le-douglasie-a-passo-di-nordic-walking/
CATEGORIES:Lezione itinerante
END:VEVENT
BEGIN:VEVENT
DTSTART;TZID=Europe/Rome:20220626T080000
DTEND;TZID=Europe/Rome:20220626T123000
DTSTAMP:20260420T045508
CREATED:20220623T063546Z
LAST-MODIFIED:20220623T063631Z
UID:10001739-1656230400-1656246600@www.nordicwalkingtoscana.it
SUMMARY:Sul percorso n. 5 Podernovo del Nordic Walking Park di Pelago
DESCRIPTION:Domenica 26 giugno andiamo a passo di nordic walking sul percorso n. 5 del Nordic Walking Park di Pelago. Il percorso di 7 km prevalentemente sterrato con diversi saliscendi ci porterà fino al luogo di un efferato eccidio nazista a Podernovo . \nPer iscriversi compilare il modulo sottostante indicando PODERNOVO entro venerdì 24 giugno \n \n\n	Avviso: JavaScript è obbligatorio per questo contenuto.
URL:https://www.nordicwalkingtoscana.it/evento/sul-percorso-n-5-podernovo-del-nordic-walking-park-di-pelago/
CATEGORIES:Lezione itinerante
END:VEVENT
BEGIN:VEVENT
DTSTART;TZID=Europe/Rome:20220618T143000
DTEND;TZID=Europe/Rome:20220619T163000
DTSTAMP:20260420T045508
CREATED:20220606T163807Z
LAST-MODIFIED:20220606T163849Z
UID:10001741-1655562600-1655656200@www.nordicwalkingtoscana.it
SUMMARY:A Lucca\, Massarosa e Massaciuccoli a passo di nordic walking
DESCRIPTION:Sabato 18  giugno andremo a passo di nordic walking a Lucca per camminare lungo l’acquedotto Nottolini fino alle sorgenti delle Parole d’Oro con due gruppi nordic walking veneti . La sera proseguirà con una camminata sulle mura di Lucca e i suoi sotterranei. Domenica 19 si aggiungeranno altri due gruppi toscani per una festa del nordic walking lungo la Via delle Erbe e dei Fiori a Massarosa per vedere le coltivazioni di fiori di loto e di lavanda. Nel pomeriggio altre attività sono previste a Massaciuccoli. E’ possibile iscriversi alla sola giornata di sabato 18 oppure  a quella di domenica 19 oppure a entrambe. Per iscriversi é necessario compilare il modulo sottostante entro giovedì 16 giugno indicando Sabato 18 giugno oppure domenica 19 giugno oppure sabato 18 e domenica 19 giugno. \nIl prezzo sottostante é a giornata e comprende la sola lezione itinerante. \n \n\n	Avviso: JavaScript è obbligatorio per questo contenuto.
URL:https://www.nordicwalkingtoscana.it/evento/a-lucca-massarosa-e-massaciuccoli-a-passo-di-nordic-walking/
CATEGORIES:Lezione itinerante
END:VEVENT
BEGIN:VEVENT
DTSTART;TZID=Europe/Rome:20220612T090000
DTEND;TZID=Europe/Rome:20220612T123000
DTSTAMP:20260420T045508
CREATED:20220608T151140Z
LAST-MODIFIED:20220608T151229Z
UID:10001740-1655024400-1655037000@www.nordicwalkingtoscana.it
SUMMARY:Nordic walking alla Fattoria di Moscia
DESCRIPTION:Domenica 12 giugno andremo a passi di nordic walking sul percorso n 6  del Nordic Walking Park di Pelago nei boschi della Consuma e più precisamente nel percorso “Fattoria di Moscia”. Il percorso nei boschi é particolarmente indicato in estate e prevede diversi saliscendi per una distanza di 6 km \nPer iscriversi è necessario compilare il modulo sottostante indicando Fattoria di Moscia entro venerdì 10 giugno. \n \n\n	Avviso: JavaScript è obbligatorio per questo contenuto.
URL:https://www.nordicwalkingtoscana.it/evento/nordic-walking-alla-fattoria-di-moscia/
CATEGORIES:Lezione itinerante
END:VEVENT
BEGIN:VEVENT
DTSTART;TZID=Europe/Rome:20220604T090000
DTEND;TZID=Europe/Rome:20220604T123000
DTSTAMP:20260420T045508
CREATED:20220531T173102Z
LAST-MODIFIED:20220531T173144Z
UID:10001742-1654333200-1654345800@www.nordicwalkingtoscana.it
SUMMARY:Al lago di Bellosguardo e all'Eremo di Lecceto a passo di nordic walking
DESCRIPTION:Sabato  4 giugno andiamo al lago di Bellosguardo e all’eremo di Lecceto a passo di nordic walking sulle colline di Lastra a Signa. Percorso di circa 5 km con alcuni saliscendi su fondo prevalentemente sterrato. Per iscriversi compilare il modulo sottostante entro giovedì 2 giugno \n \n\n	Avviso: JavaScript è obbligatorio per questo contenuto.
URL:https://www.nordicwalkingtoscana.it/evento/al-lago-di-bellosguardo-e-alleremo-di-lecceto-a-passo-di-nordic-walking/
CATEGORIES:Lezione itinerante
END:VEVENT
BEGIN:VEVENT
DTSTART;TZID=Europe/Rome:20220529T083000
DTEND;TZID=Europe/Rome:20220529T123000
DTSTAMP:20260420T045508
CREATED:20220525T065216Z
LAST-MODIFIED:20220525T083444Z
UID:10001728-1653813000-1653827400@www.nordicwalkingtoscana.it
SUMMARY:Alla ricerca del cisto laurino a passo di nordic walking
DESCRIPTION:Domenica 29 maggio andiamo alla ricerca del cisto laurino e delle sue spettacolari fioriture a passo di nordic walking . IL cisto laurino è una pianta endemica esistente solo sui poggi attorno a Santa Brigida: Il percorso é prevalentemente sterrato  con diversi saliscendi \n \n\n	Avviso: JavaScript è obbligatorio per questo contenuto.
URL:https://www.nordicwalkingtoscana.it/evento/alla-ricerca-del-cisto-laurino-a-passo-di-nordic-walking/
CATEGORIES:Lezione itinerante
END:VEVENT
BEGIN:VEVENT
DTSTART;TZID=Europe/Rome:20220522T090000
DTEND;TZID=Europe/Rome:20220522T123000
DTSTAMP:20260420T045508
CREATED:20220517T164227Z
LAST-MODIFIED:20220517T164335Z
UID:10001726-1653210000-1653222600@www.nordicwalkingtoscana.it
SUMMARY:Sulle colline di Vincigliata a passo di nordic walking
DESCRIPTION:Domenica 22 maggio andiamo sulle colline di Vincigliata a pass di nordic walking su un percorso di circa 7 km con diversi saliscendi e fondo misto sterrato e asfalto \nPer partecipare é necessario compilare il modulo sottostante entro venerdì 20 maggio indicando Vincigliata. Ritrovo Ponte a Mensola ore 9 \n \n\n	Avviso: JavaScript è obbligatorio per questo contenuto.\n\n\n    \n\n\n        \n        \n        \n 
URL:https://www.nordicwalkingtoscana.it/evento/sulle-colline-di-vincigliata-a-passo-di-nordic-walking-2/
CATEGORIES:Lezione itinerante
END:VEVENT
BEGIN:VEVENT
DTSTART;TZID=Europe/Rome:20220515T090000
DTEND;TZID=Europe/Rome:20220515T123000
DTSTAMP:20260420T045508
CREATED:20220510T104124Z
LAST-MODIFIED:20220510T104132Z
UID:10001724-1652605200-1652617800@www.nordicwalkingtoscana.it
SUMMARY:Alla ricerca di orchidee a passo di nordic walking
DESCRIPTION:Domenica 15 giugno andiamo alla ricerca delle orchidee a Pian di Mugnone su un percorso di 8 km  con diversi saliscendi prevalentemente sterrato \n \n\n	Avviso: JavaScript è obbligatorio per questo contenuto.
URL:https://www.nordicwalkingtoscana.it/evento/alla-ricerca-di-orchidee-a-passo-di-nordic-walking/
CATEGORIES:Lezione itinerante
END:VEVENT
BEGIN:VEVENT
DTSTART;TZID=Europe/Rome:20220507T080000
DTEND;TZID=Europe/Rome:20220508T170000
DTSTAMP:20260420T045508
CREATED:20220428T160345Z
LAST-MODIFIED:20220501T165455Z
UID:10001695-1651910400-1652029200@www.nordicwalkingtoscana.it
SUMMARY:Nordic walking all'isola d'Elba
DESCRIPTION:Sabato 7 e domenica 8 maggio andremo all’isola d’Elba in occasione della Maratona dell’Isola d’Elba. Sabato andremo a camminare all’Enfola mentre domenica faremo il percorso nordic walking della Maratona di 13 Km sulle colline attorno a Marina di Campo. Il percorso é visitabile al link al sito della Maratona: http://www.maratonadellisoladelba.it/info-gare/percorsi/nordic-walking/ \nPer iscrizioni rivolgersi agli istruttori \n \n\n	Avviso: JavaScript è obbligatorio per questo contenuto.
URL:https://www.nordicwalkingtoscana.it/evento/nordic-walking-allisola-delba/
CATEGORIES:Lezione itinerante
END:VEVENT
BEGIN:VEVENT
DTSTART;TZID=Europe/Rome:20220501T090000
DTEND;TZID=Europe/Rome:20220501T123000
DTSTAMP:20260420T045508
CREATED:20220428T154050Z
LAST-MODIFIED:20220428T154150Z
UID:10001696-1651395600-1651408200@www.nordicwalkingtoscana.it
SUMMARY:Nordic Walking Park di Pelago Poggio Commissario
DESCRIPTION:Domenica 1 maggio la lezione itinerante ci porterà in un percorso del Nordic Walking Park di Pelago: percorso di Poggio Commissario. Percorso prevalentemente sterrato di circa 7 km  con diversi saliscendi. \nPer partecipare iscriversi entro venerdi’ 29 aprile compilando il modulo sottostante \n \n  \n\n	Avviso: JavaScript è obbligatorio per questo contenuto.\n\n\n    \n\n\n        \n        \n        \n  \n 
URL:https://www.nordicwalkingtoscana.it/evento/nordic-walking-park-di-pelago-poggio-commissario/
CATEGORIES:Lezione itinerante
END:VEVENT
BEGIN:VEVENT
DTSTART;TZID=Europe/Rome:20220403T090000
DTEND;TZID=Europe/Rome:20220403T130000
DTSTAMP:20260420T045508
CREATED:20220330T191514Z
LAST-MODIFIED:20220330T191601Z
UID:10001697-1648976400-1648990800@www.nordicwalkingtoscana.it
SUMMARY:Nordic walking sulle colline di  Vinci
DESCRIPTION:Domenica 3 aprile la nostra lezione itinerante ci porterà sulle colline di Vinci su un percorso sterrato con diversi saliscendi di 7 km \nPer partecipare é necessario iscriversi entro venerdì 1 aprile compilando il modulo sottostando indicando Vinci \n \n\n	Avviso: JavaScript è obbligatorio per questo contenuto.
URL:https://www.nordicwalkingtoscana.it/evento/nordic-walking-sulle-colline-di-vinci/
CATEGORIES:Lezione itinerante
END:VEVENT
BEGIN:VEVENT
DTSTART;TZID=Europe/Rome:20220327T090000
DTEND;TZID=Europe/Rome:20220327T123000
DTSTAMP:20260420T045508
CREATED:20220321T192901Z
LAST-MODIFIED:20220322T074643Z
UID:10001698-1648371600-1648384200@www.nordicwalkingtoscana.it
SUMMARY:Le colline di Lastra a Signa ed il Parco di Villa Caruso a passo di nordic walking
DESCRIPTION:Domenica 27 marzo andremo a passo di nordic walking sulle colline di Lastra a Signa ed il Parco di Villa Caruso. Percorso di circa 6 km con diversi saliscendi con fondo misto prevalentemente sterrato. \nPer partecipare é necessario compilare il modulo sottostante entro venerdì 25 marzo \n \n\n	Avviso: JavaScript è obbligatorio per questo contenuto.\n\n\n    \n\n\n        \n        \n        \n 
URL:https://www.nordicwalkingtoscana.it/evento/le-colline-di-lastra-a-signa-ed-il-parco-di-villa-caruso-a-passo-di-nordic-walking/
CATEGORIES:Lezione itinerante
END:VEVENT
BEGIN:VEVENT
DTSTART;TZID=Europe/Rome:20220320T083000
DTEND;TZID=Europe/Rome:20220320T130000
DTSTAMP:20260420T045508
CREATED:20220315T202206Z
LAST-MODIFIED:20220315T210445Z
UID:10001594-1647765000-1647781200@www.nordicwalkingtoscana.it
SUMMARY:Cigoli ed il Tartufo Marzuolo a passo di nordic walking
DESCRIPTION:Domenica 20 marzo andremo a Cigoli in occasione della Sagra del Tartufo Marzuolo per una lezione itinerante sulle colline circostanti di circa 6 km con diversi saliscendi . Per iscriversi bisogna compilare il modulo sottostante entro venerdì 18 marzo \n \n\n	Avviso: JavaScript è obbligatorio per questo contenuto.
URL:https://www.nordicwalkingtoscana.it/evento/cigoli-ed-il-tartufo-marzuolo-a-passo-di-nordic-walking/
CATEGORIES:Lezione itinerante
END:VEVENT
BEGIN:VEVENT
DTSTART;TZID=Europe/Rome:20220313T090000
DTEND;TZID=Europe/Rome:20220313T123000
DTSTAMP:20260420T045508
CREATED:20220309T154956Z
LAST-MODIFIED:20220309T155229Z
UID:10001586-1647162000-1647174600@www.nordicwalkingtoscana.it
SUMMARY:Alla ricerca dei narcisi a passo di nordic walking
DESCRIPTION:Domenica 13 marzo lezione itinerante sulle colline di Bagno a Ripoli alla ricerca dei narcisi in fiore. Percorso di circa 8 km con diversi saliscendi su fondo prevalentemente sterrato. Per partecipare é obbligatorio iscriversi compilando il modulo sottostante entro venerdì 11 marzo scrivendo NARCISI DI BAGNO A RIPOLI \n \n\n	Avviso: JavaScript è obbligatorio per questo contenuto.\n\n\n    \n\n\n        \n        \n        \n  \n 
URL:https://www.nordicwalkingtoscana.it/evento/alla-ricerca-dei-narcisi-a-passo-di-nordic-walking/
CATEGORIES:Lezione itinerante
END:VEVENT
BEGIN:VEVENT
DTSTART;TZID=Europe/Rome:20220306T090000
DTEND;TZID=Europe/Rome:20220306T170000
DTSTAMP:20260420T045508
CREATED:20220228T180945Z
LAST-MODIFIED:20220228T181635Z
UID:10001585-1646557200-1646586000@www.nordicwalkingtoscana.it
SUMMARY:Mare d'inverno a passo di nordic walking
DESCRIPTION:Domenica 6 marzo lezione itinerante in gemellaggio con le associazioni Selva regia e Sotto la Torre nei dintorni di Torre del Lago lungo la spiaggia. Percorso facile di 10 km pianeggiante. \nPer partecipare é necessario compilare il modulo sottostante entro venerdì 4 marzo \n \n\n	Avviso: JavaScript è obbligatorio per questo contenuto.
URL:https://www.nordicwalkingtoscana.it/evento/mare-dinverno-a-passo-di-nordic-walking/
CATEGORIES:Lezione itinerante
END:VEVENT
BEGIN:VEVENT
DTSTART;TZID=Europe/Rome:20220227T090000
DTEND;TZID=Europe/Rome:20220227T130000
DTSTAMP:20260420T045508
CREATED:20220222T152303Z
LAST-MODIFIED:20220222T152413Z
UID:10001583-1645952400-1645966800@www.nordicwalkingtoscana.it
SUMMARY:Nordic Walking sulle Balze del Valdarno
DESCRIPTION:Domenica 27 febbraio andiamo a passo di nordic walking sulle Balze del Valdarno su un percorso prevalentemente sterrato senza grosse difficoltà di 8 km Per iscrizioni compilare il modulo sottostante entro venerdì 25 febbraio \n \n\n	Avviso: JavaScript è obbligatorio per questo contenuto.
URL:https://www.nordicwalkingtoscana.it/evento/nordic-walking-sulle-balze-del-valdarno-2/
CATEGORIES:Lezione itinerante
END:VEVENT
BEGIN:VEVENT
DTSTART;TZID=Europe/Rome:20220220T090000
DTEND;TZID=Europe/Rome:20220220T123000
DTSTAMP:20260420T045508
CREATED:20220216T142931Z
LAST-MODIFIED:20220216T142954Z
UID:10001581-1645347600-1645360200@www.nordicwalkingtoscana.it
SUMMARY:Nordic walking attorno a S. Maria a Montici
DESCRIPTION:Domenica 20 febbraio andiamo a passo di nordic walking sulle colline attorno a Santa Maria a Montici. Percorso su asfalto con molti  saliscendi km 8. Iscrizioni entro venerdì 18 febbraio compilando il modulo sottostante \n \n\n	Avviso: JavaScript è obbligatorio per questo contenuto.
URL:https://www.nordicwalkingtoscana.it/evento/nordic-walking-attorno-a-s-maria-a-montici/
CATEGORIES:Lezione itinerante
END:VEVENT
BEGIN:VEVENT
DTSTART;TZID=Europe/Rome:20220213T090000
DTEND;TZID=Europe/Rome:20220213T130000
DTSTAMP:20260420T045508
CREATED:20220202T151751Z
LAST-MODIFIED:20220205T202855Z
UID:10001699-1644742800-1644757200@www.nordicwalkingtoscana.it
SUMMARY:Sulle colline di Serpiolle a passo di nordic walking
DESCRIPTION:Domenica 13 febbraio andiamo a passo di nordic walking sulle colline di Serpiolle vicino a Careggi. Percorso collinare di 8 km misto sterrato e asfalto con diversi saliscendi. Per iscrizioni compilare il modulo sottostante entro venerdì 11 febbraio \n \n  \n\n	Avviso: JavaScript è obbligatorio per questo contenuto.
URL:https://www.nordicwalkingtoscana.it/evento/sulle-colline-di-serpiolle-a-passo-di-nordic-walking-2/
CATEGORIES:Lezione itinerante
END:VEVENT
BEGIN:VEVENT
DTSTART;TZID=Europe/Rome:20220130T090000
DTEND;TZID=Europe/Rome:20220130T130000
DTSTAMP:20260420T045508
CREATED:20220126T151228Z
LAST-MODIFIED:20220126T151631Z
UID:10001700-1643533200-1643547600@www.nordicwalkingtoscana.it
SUMMARY:Al Parco della Piana a passo di nordic walking
DESCRIPTION:Domenica 30 gennaio andiamo ai laghi palustri del Parco della Piana e Peretola alla ricerca dei fenicottori rosa e non solo. Un percorso sorprendente in una zona insospettabilmente ricca di avifauna.  Percorso prevalentemente sterrato facile km 9. Per partecipare compilare il modulo sottostante indicando Parco della Piana 30 gennaio entro venerdì 28 gennaio \n \n\n	Avviso: JavaScript è obbligatorio per questo contenuto.
URL:https://www.nordicwalkingtoscana.it/evento/al-parco-della-piana-a-passo-di-nordic-walking/
CATEGORIES:Lezione itinerante
END:VEVENT
BEGIN:VEVENT
DTSTART;TZID=Europe/Rome:20220123T090000
DTEND;TZID=Europe/Rome:20220123T123000
DTSTAMP:20260420T045508
CREATED:20220102T082549Z
LAST-MODIFIED:20220120T142456Z
UID:10001703-1642928400-1642941000@www.nordicwalkingtoscana.it
SUMMARY:Sulle colline di Monteripaldi a passo di nordic walking Rimandata al 16 gennaio
DESCRIPTION:Domenica 23 gennaio andiamo a camminare su un bellissimo percorso sulle colline di Arcetri e Monteripaldi fino al Galluzzo. Percorso prevalentemente su asfalto ma con tratto sterrato. Diversi saliscendi . Km 9 . Ritrovo davanti a Poggio Imperiale ore 9. Per iscriversi compilare il modulo sottostante entro venerdì 21 gennaio \n \n  \n\n	Avviso: JavaScript è obbligatorio per questo contenuto.
URL:https://www.nordicwalkingtoscana.it/evento/sulle-colline-di-monteripaldi-a-passo-di-nordic-walking/
LOCATION:poggio imperiale\, Piazzale del Poggio Imperiale\, Firenze\, FI\, Italia
CATEGORIES:Lezione itinerante
GEO:43.7502362;11.2474177
X-APPLE-STRUCTURED-LOCATION;VALUE=URI;X-ADDRESS=poggio imperiale Piazzale del Poggio Imperiale Firenze FI Italia;X-APPLE-RADIUS=500;X-TITLE=Piazzale del Poggio Imperiale:geo:11.2474177,43.7502362
END:VEVENT
BEGIN:VEVENT
DTSTART;TZID=Europe/Rome:20211219T083000
DTEND;TZID=Europe/Rome:20211219T133000
DTSTAMP:20260420T045508
CREATED:20211128T174342Z
LAST-MODIFIED:20211128T190535Z
UID:10001705-1639902600-1639920600@www.nordicwalkingtoscana.it
SUMMARY:Evento natalizio. Ai presepi di Cigoli e San Miniato a passo di nordic walking
DESCRIPTION:Domenica 19 dicembre andiamo a passo di nordic walking a Cigoli e San Miniato. Percorso su asfalto di km 5 \nPer iscriversi compilare il modulo sottostante entro giovedì 16 dicembre indicando evento natalizio \n  \n \n\n	Avviso: JavaScript è obbligatorio per questo contenuto.
URL:https://www.nordicwalkingtoscana.it/evento/evento-natalizio-ai-presepi-di-cigoli-e-san-miniato-a-passo-di-nordic-walking/
CATEGORIES:Lezione itinerante
END:VEVENT
BEGIN:VEVENT
DTSTART;TZID=Europe/Rome:20211212T100000
DTEND;TZID=Europe/Rome:20211212T130000
DTSTAMP:20260420T045508
CREATED:20211126T205426Z
LAST-MODIFIED:20211126T205450Z
UID:10001706-1639303200-1639314000@www.nordicwalkingtoscana.it
SUMMARY:Sulle mura di Lucca a passo di nordic walking
DESCRIPTION:Domenica 12 dicembre torniamo a camminare sulle mura di Lucca a passo di nordic walking. Il percorso é prevalentemente sterrato e sarà possibile percorrere uno o due giri delle mura. Per iscrizioni compilare il modulo sottostante indicando Lucca 12  dicembre entro sabato 11 dicembre. \n \n\n	Avviso: JavaScript è obbligatorio per questo contenuto.
URL:https://www.nordicwalkingtoscana.it/evento/sulle-mura-di-lucca-a-passo-di-nordic-walking/
CATEGORIES:Lezione itinerante
END:VEVENT
BEGIN:VEVENT
DTSTART;TZID=Europe/Rome:20211205T090000
DTEND;TZID=Europe/Rome:20211205T123000
DTSTAMP:20260420T045508
CREATED:20211201T210436Z
LAST-MODIFIED:20211201T210456Z
UID:10001704-1638694800-1638707400@www.nordicwalkingtoscana.it
SUMMARY:Sulle colline di Bagno a Ripoli attorno a Monte Pilli
DESCRIPTION:Domenica 5 dicembre andiamo a passo di nordic walking sulle colline attorno a Monte Pilli a Bagno a Ripoli su un bellissimo percorso che ci porterà su una antica strada romana e ad ammirare panorami spettacolari di Firenze. Iscrizioni compilando il modulo sottostante entro venerdì 3 dicembre indicando Bagno a Ripoli 5 dicembre \n \n\n	Avviso: JavaScript è obbligatorio per questo contenuto.
URL:https://www.nordicwalkingtoscana.it/evento/sulle-colline-di-bagno-a-ripoli-attorno-a-monte-pilli/
CATEGORIES:Lezione itinerante
END:VEVENT
BEGIN:VEVENT
DTSTART;TZID=Europe/Rome:20211121T090000
DTEND;TZID=Europe/Rome:20211121T123000
DTSTAMP:20260420T045508
CREATED:20211109T123214Z
LAST-MODIFIED:20211116T200704Z
UID:10001709-1637485200-1637497800@www.nordicwalkingtoscana.it
SUMMARY:A San Quirico in Collina ed al Castello di Poppiano a passo di nordic walking
DESCRIPTION:Domenica 21 novembre lezione itinerante sulle colline attorno San Quirico in Collina ed al Castello di Poppiano . Percorso di circa 7 km prevalentemente sterrato con diversi saliscendi. Ritrovo ore 9 in luogo da definire. Per partecipare é necessario compilare il modulo sottostante indicando SAN QUIRICO 21 novembre entro venerdì 19 novembre. \n \n  \n\n	Avviso: JavaScript è obbligatorio per questo contenuto.\n\n\n    \n\n\n        \n        \n        \n 
URL:https://www.nordicwalkingtoscana.it/evento/a-san-quirico-in-collina-ed-al-castello-di-poppiano-a-passo-di-nordic-walking/
CATEGORIES:Lezione itinerante
END:VEVENT
BEGIN:VEVENT
DTSTART;TZID=Europe/Rome:20211107T083000
DTEND;TZID=Europe/Rome:20211107T130000
DTSTAMP:20260420T045508
CREATED:20211103T170214Z
LAST-MODIFIED:20211103T170227Z
UID:10001712-1636273800-1636290000@www.nordicwalkingtoscana.it
SUMMARY:Sulle colline della Val di Pesa a passo di nordic walking
DESCRIPTION:Domenica 7 novembre andiamo a camminare sulle colline della Val di Pesa su un percorso prevalentemente sterrato con diversi saliscendi che verrà scelto sulla base dello stato del terreno . Per iscriversi compilare il modulo sottostante entro sabato 6 novembre specificando Val di Pesa. \n \n\n	Avviso: JavaScript è obbligatorio per questo contenuto.
URL:https://www.nordicwalkingtoscana.it/evento/sulle-colline-della-val-di-pesa-a-passo-di-nordic-walking/
CATEGORIES:Lezione itinerante
END:VEVENT
BEGIN:VEVENT
DTSTART;TZID=Europe/Rome:20211031T080000
DTEND;TZID=Europe/Rome:20211031T130000
DTSTAMP:20260420T045508
CREATED:20211026T195414Z
LAST-MODIFIED:20211026T195505Z
UID:10001713-1635667200-1635685200@www.nordicwalkingtoscana.it
SUMMARY:Fall Foliage sul monte Secchieta
DESCRIPTION:Domenica 31 ottobre andiamo sul Monte Secchieta ad ammirare il fall foliage tra i più belli della Toscana a passo di nordic walking. Percorso di 8 km circa su sterrato con diversi saliscendi. \nPer prenotarsi iscriversi compilando il modulo sottostante entro sabato 30 ottobre con FOLIAGE SECCHIETA \n \n\n	Avviso: JavaScript è obbligatorio per questo contenuto.
URL:https://www.nordicwalkingtoscana.it/evento/fall-foliage-sul-monte-secchieta/
CATEGORIES:Lezione itinerante
END:VEVENT
BEGIN:VEVENT
DTSTART;TZID=Europe/Rome:20211024T083000
DTEND;TZID=Europe/Rome:20211024T130000
DTSTAMP:20260420T045508
CREATED:20211019T193414Z
LAST-MODIFIED:20211019T193432Z
UID:10001715-1635064200-1635080400@www.nordicwalkingtoscana.it
SUMMARY:Foliage tra le vigne a passo di nordic walking
DESCRIPTION:Domenica 24 ottobre torniamo tra i meravigliosi vigneti della tenuta del Castello di Nipozzano\, sede del Challenge 2019\, per camminare a passo di nordic walking ammirando le foglie colorate d’autunno. Percorso ad anello di km 8 con diversi saliscendi su sterrato. Per iscriversi necessario compilare il modulo sottostante specificando Nipozzano entro sabato 23 ottobre \n \n\n	Avviso: JavaScript è obbligatorio per questo contenuto.
URL:https://www.nordicwalkingtoscana.it/evento/foliage-tra-le-vigne-a-passo-di-nordic-walking/
CATEGORIES:Lezione itinerante
END:VEVENT
BEGIN:VEVENT
DTSTART;TZID=Europe/Rome:20211017T090000
DTEND;TZID=Europe/Rome:20211017T130000
DTSTAMP:20260420T045508
CREATED:20211005T145214Z
LAST-MODIFIED:20211005T192023Z
UID:10001717-1634461200-1634475600@www.nordicwalkingtoscana.it
SUMMARY:Gemellaggio con Camminatori senza Confini Ferrara - Sulla Firenze Greenway
DESCRIPTION:Domenica 17 ottobre ci ritroviamo con i Camminatori senza Confini di Ferrara per una bellissima camminata sulla Firenze Greenway lungo i più famosi viali sulle colline di Firenze. Cammineremo verso Piazzale Michelangelo\, il Giardino delle Rose\, il Giardino della Rimembranza \, Bobolino su un percorso con diversi saliscendi asfaltato. Necessari i pad per i puntali.\nPer partecipare é necessario compilare il modulo sottostante entro sabato 16 ottobre indicando Gemellaggio 17 ottobre \n \n\n	Avviso: JavaScript è obbligatorio per questo contenuto.
URL:https://www.nordicwalkingtoscana.it/evento/gemellaggio-con-camminatori-senza-confini-ferrara-sulla-firenze-greenway/
CATEGORIES:Lezione itinerante
END:VEVENT
BEGIN:VEVENT
DTSTART;TZID=Europe/Rome:20211010T080000
DTEND;TZID=Europe/Rome:20211010T130000
DTSTAMP:20260420T045508
CREATED:20211005T142852Z
LAST-MODIFIED:20211005T192144Z
UID:10001718-1633852800-1633870800@www.nordicwalkingtoscana.it
SUMMARY:Al lago di Bilancino a passo di nordic walking
DESCRIPTION:Domenica 10 ottobre torniamo al Lago di Bilancino a passo di nordic walkig su un percorso molto panoramico prevalentemente sterrato e privo di difficoltà. Per iscriversi é necessario compilare il modulo sottostante indicando Lago Bilancino 10 ottobre entro sabato 9 ottobre \n \n\n	Avviso: JavaScript è obbligatorio per questo contenuto.
URL:https://www.nordicwalkingtoscana.it/evento/al-lago-di-bilancino-a-passo-di-nordic-walking/
CATEGORIES:Lezione itinerante
END:VEVENT
BEGIN:VEVENT
DTSTART;TZID=Europe/Rome:20211003T090000
DTEND;TZID=Europe/Rome:20211003T123000
DTSTAMP:20260420T045508
CREATED:20210927T184030Z
LAST-MODIFIED:20210927T184054Z
UID:10001707-1633251600-1633264200@www.nordicwalkingtoscana.it
SUMMARY:Sulle colline tra Pian di Mugnone e Fiesole a passo di nordic walking
DESCRIPTION:Domenica 3 ottobre andiamo a passo di nordic walking sulle colline da Pian di Mugnone  e Fiesole su un percorso altamente spettacolare. Ritrovo ore 9. Percorso di 7 km circa. con diversi saliscendi su fondo misto prevalentemente sterrato. \nPer iscriversi compilare il modulo sottostante entro venerdì 1 ottobre specificando Fiesole domenica 3 ottobre \n \n  \n\n	Avviso: JavaScript è obbligatorio per questo contenuto.\n\n\n    \n\n\n        \n        \n        \n  \n  \n  \n 
URL:https://www.nordicwalkingtoscana.it/evento/sulle-colline-tra-pian-di-mugnone-e-fiesole-a-passo-di-nordic-walking/
CATEGORIES:Lezione itinerante
END:VEVENT
END:VCALENDAR